BEGIN:VCALENDAR
VERSION:2.0
PRODID:-//freedombmx - ECPv6.12.0.1//NONSGML v1.0//EN
CALSCALE:GREGORIAN
METHOD:PUBLISH
X-ORIGINAL-URL:https://freedombmx.de
X-WR-CALDESC:Veranstaltungen für freedombmx
REFRESH-INTERVAL;VALUE=DURATION:PT1H
X-Robots-Tag:noindex
X-PUBLISHED-TTL:PT1H
BEGIN:VTIMEZONE
TZID:Europe/Berlin
BEGIN:DAYLIGHT
TZOFFSETFROM:+0100
TZOFFSETTO:+0200
TZNAME:CEST
DTSTART:20240331T010000
END:DAYLIGHT
BEGIN:STANDARD
TZOFFSETFROM:+0200
TZOFFSETTO:+0100
TZNAME:CET
DTSTART:20241027T010000
END:STANDARD
END:VTIMEZONE
BEGIN:VEVENT
DTSTART;VALUE=DATE:20240607
DTEND;VALUE=DATE:20240610
DTSTAMP:20260421T132600
CREATED:20240403T113737Z
LAST-MODIFIED:20240403T113908Z
UID:10000008-1717718400-1717977599@freedombmx.de
SUMMARY:Strawberry Jam @ Skatepark Lohhof
DESCRIPTION:​ \nNach der erfolgreichen Premiere im vergangenen Jahr geht der Strawberry Jam vom 07. bis 09. Juni 2024 in die zweite Runde. \nWeitere Infos folgen in Kürze. Bis es soweit ist\, haben wir zur Einstimmung weiter unten schonmal unser Video vom vorigen Mal. Eine dicke Gallery aus dem vergangenen Jahr findest du HIER.
URL:https://freedombmx.de/kalender-termin/strawberry-jam-skatepark-lohhof
LOCATION:Skatepark Lohhof\, Ludwig-Pettinger-Weg\, Unterschleißheim\, Bayern\, 85716\, Deutschland
CATEGORIES:Contests National
ATTACH;FMTTYPE=image/jpeg:https://s3-eu-west-1.amazonaws.com/assets.pukit.de/freedombmx/wp-content/uploads/2024/02/strawberry-bmx-jam-lohhof.jpg
ORGANIZER;CN="SV Lohhof Rolling Wheels":MAILTO:kontakt@rolling-wheels.net
END:VEVENT
END:VCALENDAR