BEGIN:VCALENDAR
VERSION:2.0
PRODID:-//freedombmx - ECPv6.12.0.1//NONSGML v1.0//EN
CALSCALE:GREGORIAN
METHOD:PUBLISH
X-WR-CALNAME:freedombmx
X-ORIGINAL-URL:https://freedombmx.de
X-WR-CALDESC:Veranstaltungen für freedombmx
REFRESH-INTERVAL;VALUE=DURATION:PT1H
X-Robots-Tag:noindex
X-PUBLISHED-TTL:PT1H
BEGIN:VTIMEZONE
TZID:Europe/Berlin
BEGIN:DAYLIGHT
TZOFFSETFROM:+0100
TZOFFSETTO:+0200
TZNAME:CEST
DTSTART:20250330T010000
END:DAYLIGHT
BEGIN:STANDARD
TZOFFSETFROM:+0200
TZOFFSETTO:+0100
TZNAME:CET
DTSTART:20251026T010000
END:STANDARD
END:VTIMEZONE
BEGIN:VEVENT
DTSTART;VALUE=DATE:20251115
DTEND;VALUE=DATE:20251116
DTSTAMP:20260422T115947
CREATED:20250919T174151Z
LAST-MODIFIED:20251111T092153Z
UID:10000171-1763164800-1763251199@freedombmx.de
SUMMARY:freedombmx Awards in München
DESCRIPTION:SAVE THE DATE! Die freedombmx Awards 2025 presented by 360 Grad Sportshop finden am 15. November in Münchens neuem Indoorpark aka der CASA MUC in Pasing statt. \nERST BEST TRICK…\nSeid dabei\, wenn wir ab 14:00 Uhr den Parcours der beheizten (!) Halle auseinandernehmen. In diesem Zusammenhang wird es im Laufe des Nachmittags drei Best-Trick-Contests geben: einen für Street am Rail/Ledge-Obstacle\, einen auf der Schweinequarter und einen für Flatland. Den Gewinner:innen winken jeweils 250\,– EUR und Clips in unserem Video von der Veranstaltung. ACHTUNG:  \n\n\nLenkerenden müssen aus Gummi oder Kunststoff sein;\n\n\nPedale komplett aus Kunststoff (keine Metallpins);\n\n\nPegs aus Stahl sind nicht erlaubt.\n\n\nDANN PARTY!\nAb 20:00 Uhr küren wir dann die besten BMX-Fahrerinnen und -Fahrer des Jahres 2025. Also legt am besten schon einmal eure beste Abendgarderobe raus! Und haben wir schon erwähnt\, dass es kistenweise Freibier gibt? Nein? Ist aber so. Denn Grindgenuss macht bekanntlich durstig und eure Kehlen sollen ja auch gut geölt sein\, damit ihr die Gewinner:innen des Abends auch gebührend angrölen könnt. \n \nVielen Dank an dieser Stelle an all unsere Sponsoren\, die die Sause überhaupt erst möglich machen – allen voran natürlich dem 360 Grad Sportshop\, der in diesem Jahr die Awards präsentiert\, sowie Chiemseer\, die uns mit Getränken supporten! Liebe geht außerdem raus an Endura\, Flybikes\, Pro-Tec\, Fitbikeco.\, Sunday Bikes\, BSD\, ODI\, KHEbikes\, Volume Bikes\, Vocal\, United\, Federal Bikes\, Odyssey\, S&M Bikes\, SIBMX\, wethepeople und AllRide BMX Distribution <3 \nAlso\, wir sehen uns am 15. November 2025 in München-Pasing. Wird wild\, Oida!
URL:https://freedombmx.de/kalender-termin/freedombmx-awards-in-muenchen
LOCATION:Casa Skate- & BMX-Halle\, Angela-von-den-Driesch-Weg 9\, München\, Bayern\, 81245\, Deutschland
CATEGORIES:Jams
ATTACH;FMTTYPE=image/jpeg:https://s3-eu-west-1.amazonaws.com/assets.pukit.de/freedombmx/wp-content/uploads/2025/09/freedombmx-awards-2025.jpg
END:VEVENT
END:VCALENDAR