BEGIN:VCALENDAR
VERSION:2.0
PRODID:-//freedombmx - ECPv6.12.0.1//NONSGML v1.0//EN
CALSCALE:GREGORIAN
METHOD:PUBLISH
X-WR-CALNAME:freedombmx
X-ORIGINAL-URL:https://freedombmx.de
X-WR-CALDESC:Veranstaltungen für freedombmx
REFRESH-INTERVAL;VALUE=DURATION:PT1H
X-Robots-Tag:noindex
X-PUBLISHED-TTL:PT1H
BEGIN:VTIMEZONE
TZID:Europe/Berlin
BEGIN:DAYLIGHT
TZOFFSETFROM:+0100
TZOFFSETTO:+0200
TZNAME:CEST
DTSTART:20250330T010000
END:DAYLIGHT
BEGIN:STANDARD
TZOFFSETFROM:+0200
TZOFFSETTO:+0100
TZNAME:CET
DTSTART:20251026T010000
END:STANDARD
END:VTIMEZONE
BEGIN:VEVENT
DTSTART;VALUE=DATE:20251011
DTEND;VALUE=DATE:20251012
DTSTAMP:20260424T150457
CREATED:20250820T131511Z
LAST-MODIFIED:20250820T131511Z
UID:10000162-1760140800-1760227199@freedombmx.de
SUMMARY:Lazy Dog Jam #9 in Braunschweig
DESCRIPTION:Bei Odins Bart! Der legendäre Lazy Dog BMX Jam geht am 11. Oktober 2025 in der Walhalla Skate- und Bikehalle Braunschweig in die 9. Runde. \nWie gewohnt gibt’s ein lockeres Jamformat\, Hotdogs\, gute Musik und natürlich das legendäre Bierrace zur Einstimmung auf die Aftershowparty. Geöffnet wird die Halle ab 14:00 Uhr\, der Eintritt kostet zwischen 5\,– und 10\,– EUR. Hört sich doch super an. Also\, nix wie hin da!
URL:https://freedombmx.de/kalender-termin/lazy-dog-jam-9-in-braunschweig
LOCATION:SC Walhalla e. V.\, Böcklerstraße 30\, Braunschweig\, Niedersachsen\, 38102\, Deutschland
CATEGORIES:Jams
ATTACH;FMTTYPE=image/jpeg:https://s3-eu-west-1.amazonaws.com/assets.pukit.de/freedombmx/wp-content/uploads/2025/08/lazy-dog-bmx-jam-braunschweig.jpg
END:VEVENT
END:VCALENDAR